OziExplorer Map Data File Version 2.2
World Index Map
World Index.bmp
1 ,Map Code,
WGS 84,WGS 84,   0.0000,   0.0000,WGS 84
Reserved 1
Reserved 2
Magnetic Variation,,,E
Map Projection,Latitude/Longitude,PolyCal,No,AutoCalOnly,No,BSBUseWPX,No
Point01,xy,   42,   42,in, deg,  60,  0.0000,N, 150,  0.0000,W, grid,   ,           ,           ,S
Point02,xy,  456,  207,in, deg,  60,  0.0000,S, 150,  0.0000,E, grid,   ,           ,           ,S
Point03,xy,     ,     ,in, deg,    ,        ,S,    ,        ,E, grid,   ,           ,           ,S
Point04,xy,     ,     ,in, deg,    ,        ,S,    ,        ,E, grid,   ,           ,           ,S
Point05,xy,     ,     ,in, deg,    ,        ,S,    ,        ,E, grid,   ,           ,           ,S
Point06,xy,     ,     ,in, deg,    ,        ,S,    ,        ,E, grid,   ,           ,           ,S
Point07,xy,     ,     ,in, deg,    ,        ,S,    ,        ,E, grid,   ,           ,           ,S
Point08,xy,     ,     ,in, deg,    ,        ,S,    ,        ,E, grid,   ,           ,           ,S
Point09,xy,     ,     ,in, deg,    ,        ,S,    ,        ,E, grid,   ,           ,           ,S
Point10,xy,     ,     ,in, deg,    ,        ,N,    ,        ,W, grid,   ,           ,           ,N
Point11,xy,     ,     ,in, deg,    ,        ,N,    ,        ,W, grid,   ,           ,           ,N
Point12,xy,     ,     ,in, deg,    ,        ,N,    ,        ,W, grid,   ,           ,           ,N
Point13,xy,     ,     ,in, deg,    ,        ,N,    ,        ,W, grid,   ,           ,           ,N
Point14,xy,     ,     ,in, deg,    ,        ,N,    ,        ,W, grid,   ,           ,           ,N
Point15,xy,     ,     ,in, deg,    ,        ,N,    ,        ,W, grid,   ,           ,           ,N
Point16,xy,     ,     ,in, deg,    ,        ,N,    ,        ,W, grid,   ,           ,           ,N
Point17,xy,     ,     ,in, deg,    ,        ,N,    ,        ,W, grid,   ,           ,           ,N
Point18,xy,     ,     ,in, deg,    ,        ,N,    ,        ,W, grid,   ,           ,           ,N
Point19,xy,     ,     ,in, deg,    ,        ,N,    ,        ,W, grid,   ,           ,           ,N
Point20,xy,     ,     ,in, deg,    ,        ,N,    ,        ,W, grid,   ,           ,           ,N
Point21,xy,     ,     ,in, deg,    ,        ,N,    ,        ,W, grid,   ,           ,           ,N
Point22,xy,     ,     ,in, deg,    ,        ,N,    ,        ,W, grid,   ,           ,           ,N
Point23,xy,     ,     ,in, deg,    ,        ,N,    ,        ,W, grid,   ,           ,           ,N
Point24,xy,     ,     ,in, deg,    ,        ,N,    ,        ,W, grid,   ,           ,           ,N
Point25,xy,     ,     ,in, deg,    ,        ,N,    ,        ,W, grid,   ,           ,           ,N
Point26,xy,     ,     ,in, deg,    ,        ,N,    ,        ,W, grid,   ,           ,           ,N
Point27,xy,     ,     ,in, deg,    ,        ,N,    ,        ,W, grid,   ,           ,           ,N
Point28,xy,     ,     ,in, deg,    ,        ,N,    ,        ,W, grid,   ,           ,           ,N
Point29,xy,     ,     ,in, deg,    ,        ,N,    ,        ,W, grid,   ,           ,           ,N
Point30,xy,     ,     ,in, deg,    ,        ,N,    ,        ,W, grid,   ,           ,           ,N
Projection Setup,,   135.000000000,,,,   -28.000000000,   -36.000000000,,,
Map Feature = MF ; Map Comment = MC     These follow if they exist
Track File = TF      These follow if they exist
Moving Map Parameters = MM?    These follow if they exist
MM0,Yes
MMPNUM,4
MMPXY,1,2,2
MMPXY,2,494,4
MMPXY,3,496,247
MMPXY,4,2,246
MMPLL,1,-178.985507,  89.090909
MMPLL,2, 177.536232,  87.636364
MMPLL,3, 178.985507, -89.090909
MMPLL,4,-178.985507, -88.363636
MM1B,31814.785421
MOP,Map Open Position,0,0
IWH,Map Image Width/Height,499,250
